Workbook

Sheet CTCT-HSSV
C2: ='TC-HC-TH'!C2:G2 -> Thành phố Hồ Chí Minh, ngày tháng 7 năm 2018
A4: BIÊN BẢN KIỂM PHIẾU TÍN NHIỆM VIÊN CHỨC QUẢN LÝ PHÒNG CÔNG TÁC CHÍNH TRỊ - HỌC SINH SINH VIÊN NĂM 2018
A6: Hôm nay, vào lúc giờ phút, ngày 23/7/2018
A7: Tại: Phòng Tổ chức - HC - TH thuộc Trường Cao đẳng Lý Tự Trọng Tp. Hồ Chí Minh
A8: Chúng tôi gồm có:
A9: 1. Ông Lê Xuân Thiện, Phó Trưởng phòng TC-HC-TH: | E9: Tổ trưởng;
A10: 2. Ông Lâm Viết Dũng, Chủ tịch Công đoàn trường: | E10: Thành viên;
A11: 3. Bà Nguyễn Thị Hoa, Phó Bí thư Chi bộ 2: | E11: Thành viên;
A12: 4. Ông Huỳnh Ngọc Mai, TB Thanh tra nhân dân: | E12: Thành viên;
A13: 5. Ông Nguyễn Hữu Thiện, Bí thư Đoàn trường: | E13: Thành viên;
A14: Là các thành viên Tổ kiểm phiếu theo Quyết định số 723/QĐ-LTT-TC ngày 29 tháng 6 năm 2018 của Trường Cao đẳng Lý Tự Trọng Tp. Hồ Chí Minh.
A15: Tiến hành kiểm phiếu do CB-NV phòng Công tác Chính trị - Học sinh Sinh viên bỏ phiếu trong cuộc họp tham khảo tín nhiệm viên chức quản lý tại phòng vào ngày 11/7/2018
A16: Tổng số phiếu: | C16: 19
A18: TT | B18: Họ và tên | C18: Chức vụ/Chức danh, Đơn vị công tác | D18: Số phiếu hợp lệ | E18: Số phiếu không hợp lệ | F18: Số phiếu tín nhiệm | G18: Tỷ lệ phiếu tín nhiệm
A19: 1 | B19: HOÀNG NGỌC CẢNH | C19: Phó Trưởng phòng, Phụ trách phòng CTCT - HSSV | E19: =$C$16-D19 -> 19 | G19: =F19/$C$16 -> 0
A20: 2 | B20: HỒ MINH LỢI | C20: Phó Trưởng phòng Công tác Chính trị - HSSV | E20: =$C$16-D20 -> 19 | G20: =F20/$C$16 -> 0
A21: 3 | B21: PHAN ĐỨC LONG | C21: Tổ trưởng tổ QL KTX thuộc phòng CTCT - HSSV | E21: =$C$16-D21 -> 19 | G21: =F21/$C$16 -> 0
A23: ……………………………………………………………………………………………… ……………………………………………………………………………………………………
A24: Chúng tôi đồng ký tên dưới đây, xác nhận việc kiểm phiếu được thực hiện chính xác, đúng quy định.
A25: Biên bản kết thúc lúc giờ phút ngày 23/7/2018.
B27: THÀNH VIÊN TỔ KIỂM PHIẾU | D27: TỔ TRƯỞNG TỔ KIỂM PHIẾU
A29: Lâm Viết Dũng: …………………………………
A30: Nguyễn Thị Hoa: ……………………………
A31: Huỳnh Ngọc Mai: ………………………………. | D31: Lê Xuân Thiện
A32: Nguyễn Hữu Thiện: ……………………………..

Sheet KT-ĐBCL
C2: ='TC-HC-TH'!C2:G2 -> Thành phố Hồ Chí Minh, ngày tháng 7 năm 2018
A4: BIÊN BẢN KIỂM PHIẾU TÍN NHIỆM VIÊN CHỨC QUẢN LÝ PHÒNG KHẢO THÍ VÀ ĐẢM BẢO CHẤT LƯỢNG NĂM 2018
A6: Hôm nay, vào lúc giờ phút, ngày 23/7/2018
A7: Tại: Phòng Tổ chức - HC - TH thuộc Trường Cao đẳng Lý Tự Trọng Tp. Hồ Chí Minh
A8: Chúng tôi gồm có:
A9: 1. Ông Lê Xuân Thiện, Phó Trưởng phòng TC-HC-TH: | E9: Tổ trưởng;
A10: 2. Ông Lâm Viết Dũng, Chủ tịch Công đoàn trường: | E10: Thành viên;
A11: 3. Bà Nguyễn Thị Hoa, Phó Bí thư Chi bộ 2: | E11: Thành viên;
A12: 4. Ông Huỳnh Ngọc Mai, TB Thanh tra nhân dân: | E12: Thành viên;
A13: 5. Ông Nguyễn Hữu Thiện, Bí thư Đoàn trường: | E13: Thành viên;
A14: Là các thành viên Tổ kiểm phiếu theo Quyết định số 723/QĐ-LTT-TC ngày 29 tháng 6 năm 2018 của Trường Cao đẳng Lý Tự Trọng Tp. Hồ Chí Minh.
A15: Tiến hành kiểm phiếu do CB-NV phòng Khảo thí và Đảm bảo chất lượng bỏ phiếu trong cuộc họp tham khảo tín nhiệm viên chức quản lý tại phòng vào ngày 23/7/2018
A16: Tổng số phiếu: | C16: 8
A18: TT | B18: Họ và tên | C18: Chức vụ/Chức danh, Đơn vị công tác | D18: Số phiếu hợp lệ | E18: Số phiếu không hợp lệ | F18: Số phiếu tín nhiệm | G18: Tỷ lệ phiếu tín nhiệm
A19: 1 | B19: NGUYỄN CHÍ NHÂN | C19: Phó Trưởng phòng, Phụ trách phòng Khảo thí - Đảm bảo chất lượng | E19: =$C$16-D19 -> 8 | G19: =F19/$C$16 -> 0
A20: 2 | B20: VÕ THỊ ANH ĐÀO | C20: Phó Trưởng phòng Khảo thí - Đảm bảo chất lượng | E20: =$C$16-D20 -> 8 | G20: =F20/$C$16 -> 0
A22: ……………………………………………………………………………………………… …………………………………………………………………………………………………… ……………………………………………………………………………………………………
A23: Chúng tôi đồng ký tên dưới đây, xác nhận việc kiểm phiếu được thực hiện chính xác, đúng quy định.
A24: Biên bản kết thúc lúc giờ phút ngày 23/7/2018.
B26: THÀNH VIÊN TỔ KIỂM PHIẾU | D26: TỔ TRƯỞNG TỔ KIỂM PHIẾU
A28: Lâm Viết Dũng: …………………………………
A29: Nguyễn Thị Hoa: ……………………………
A30: Huỳnh Ngọc Mai: ………………………………. | D30: Lê Xuân Thiện
A31: Nguyễn Hữu Thiện: ……………………………..

Sheet TB-VT
C2: ='TC-HC-TH'!C2:G2 -> Thành phố Hồ Chí Minh, ngày tháng 7 năm 2018
A4: BIÊN BẢN KIỂM PHIẾU TÍN NHIỆM VIÊN CHỨC QUẢN LÝ PHÒNG THIẾT BỊ - VẬT TƯ NĂM 2018
A6: Hôm nay, vào lúc giờ phút, ngày 23/7/2018
A7: Tại: Phòng Tổ chức - HC - TH thuộc Trường Cao đẳng Lý Tự Trọng Tp. Hồ Chí Minh
A8: Chúng tôi gồm có:
A9: 1. Ông Lê Xuân Thiện, Phó Trưởng phòng TC-HC-TH: | E9: Tổ trưởng;
A10: 2. Ông Châu Văn Bảo, Phó Chủ tịch Công đoàn trường: | E10: Thành viên;
A11: 3. Bà Nguyễn Thị Hoa, Phó Bí thư Chi bộ 2: | E11: Thành viên;
A12: 4. Ông Huỳnh Ngọc Mai, TB Thanh tra nhân dân: | E12: Thành viên;
A13: 5. Ông Nguyễn Hữu Thiện, Bí thư Đoàn trường: | E13: Thành viên;
A14: Là các thành viên Tổ kiểm phiếu theo Quyết định số 723/QĐ-LTT-TC ngày 29 tháng 6 năm 2018 của Trường Cao đẳng Lý Tự Trọng Tp. Hồ Chí Minh.
A15: Tiến hành kiểm phiếu do CB-NV phòng Thiết bị - Vật tư bỏ phiếu trong cuộc họp tham khảo tín nhiệm viên chức quản lý tại phòng vào ngày 23/7/2018
A16: Tổng số phiếu: | C16: 4
A18: TT | B18: Họ và tên | C18: Chức vụ/Chức danh, Đơn vị công tác | D18: Số phiếu hợp lệ | E18: Số phiếu không hợp lệ | F18: Số phiếu tín nhiệm | G18: Tỷ lệ phiếu tín nhiệm
A19: 1 | B19: LÂM VIẾT DŨNG | C19: Trưởng phòng Thiết bị - Vật tư | E19: =$C$16-D19 -> 4 | G19: =F19/$C$16 -> 0
A21: ……………………………………………………………………………………………… …………………………………………………………………………………………………… ……………………………………………………………………………………………
A22: Chúng tôi đồng ký tên dưới đây, xác nhận việc kiểm phiếu được thực hiện chính xác, đúng quy định.
A23: Biên bản kết thúc lúc giờ phút ngày 23/7/2018.
B25: THÀNH VIÊN TỔ KIỂM PHIẾU | D25: TỔ TRƯỞNG TỔ KIỂM PHIẾU
A27: Châu Văn Bảo: …………………………………
A28: Nguyễn Thị Hoa: ……………………………
A29: Huỳnh Ngọc Mai: ………………………………. | D29: Lê Xuân Thiện
A30: Nguyễn Hữu Thiện: ……………………………..

Sheet TS-ĐT
C2: ='TC-HC-TH'!C2:G2 -> Thành phố Hồ Chí Minh, ngày tháng 7 năm 2018
A4: BIÊN BẢN KIỂM PHIẾU TÍN NHIỆM VIÊN CHỨC QUẢN LÝ PHÒNG TUYỂN SINH - ĐÀO TẠO NĂM 2018
A6: Hôm nay, vào lúc giờ phút, ngày 23/7/2018
A7: Tại: Phòng Tổ chức - HC - TH thuộc Trường Cao đẳng Lý Tự Trọng Tp. Hồ Chí Minh
A8: Chúng tôi gồm có:
A9: 1. Ông Lê Xuân Thiện, Phó Trưởng phòng TC-HC-TH: | E9: Tổ trưởng;
A10: 2. Ông Lâm Viết Dũng, Chủ tịch Công đoàn trường: | E10: Thành viên;
A11: 3. Bà Nguyễn Thị Hoa, Phó Bí thư Chi bộ 2: | E11: Thành viên;
A12: 4. Ông Huỳnh Ngọc Mai, TB Thanh tra nhân dân: | E12: Thành viên;
A13: 5. Ông Nguyễn Hữu Thiện, Bí thư Đoàn trường: | E13: Thành viên;
A14: Là các thành viên Tổ kiểm phiếu theo Quyết định số 723/QĐ-LTT-TC ngày 29 tháng 6 năm 2018 của Trường Cao đẳng Lý Tự Trọng Tp. Hồ Chí Minh.
A15: Tiến hành kiểm phiếu do CB-NV phòng Tuyển sinh - Đào tạo bỏ phiếu trong cuộc họp tham khảo tín nhiệm viên chức quản lý tại phòng vào ngày 23/7/2018
A16: Tổng số phiếu: | C16: 17
A18: TT | B18: Họ và tên | C18: Chức vụ/Chức danh, Đơn vị công tác | D18: Số phiếu hợp lệ | E18: Số phiếu không hợp lệ | F18: Số phiếu tín nhiệm | G18: Tỷ lệ phiếu tín nhiệm
A19: 1 | B19: HỒ VĂN SĨ | C19: Phó Trưởng phòng, Phụ trách phòng TS - ĐT | E19: =$C$16-D19 -> 17 | G19: =F19/$C$16 -> 0
A20: 2 | B20: NGUYỄN VĂN TẤN | C20: Phó Trưởng phòng Tuyển sinh - Đào tạo | E20: =$C$16-D20 -> 17 | G20: =F20/$C$16 -> 0
A21: 3 | B21: NUYỄN THỊ NHUẬN | C21: Phó Trưởng phòng Tuyển sinh - Đào tạo | E21: =$C$16-D21 -> 17 | G21: =F21/$C$16 -> 0
A23: ……………………………………………………………………………………………… ……………………………………………………………………………………………………
A24: Chúng tôi đồng ký tên dưới đây, xác nhận việc kiểm phiếu được thực hiện chính xác, đúng quy định.
A25: Biên bản kết thúc lúc giờ phút. ngày 23/7/2018.
B27: THÀNH VIÊN TỔ KIỂM PHIẾU | D27: TỔ TRƯỞNG TỔ KIỂM PHIẾU
A29: Lâm Viết Dũng: …………………………………
A30: Nguyễn Thị Hoa: ……………………………
A31: Huỳnh Ngọc Mai: ………………………………. | D31: Lê Xuân Thiện
A32: Nguyễn Hữu Thiện: ……………………………..

Sheet KH -TC
C2: ='TC-HC-TH'!C2:G2 -> Thành phố Hồ Chí Minh, ngày tháng 7 năm 2018
A4: BIÊN BẢN KIỂM PHIẾU TÍN NHIỆM VIÊN CHỨC QUẢN LÝ PHÒNG KẾ HOẠCH - TÀI CHÍNH NĂM 2018
A6: Hôm nay, vào lúc giờ phút, ngày 23/7/2018
A7: Tại: Phòng Tổ chức - HC - TH thuộc Trường Cao đẳng Lý Tự Trọng Tp. Hồ Chí Minh
A8: Chúng tôi gồm có:
A9: 1. Ông Lê Xuân Thiện, Phó Trưởng phòng TC-HC-TH: | E9: Tổ trưởng;
A10: 2. Ông Lâm Viết Dũng, Chủ tịch Công đoàn trường: | E10: Thành viên;
A11: 3. Bà Nguyễn Thị Hoa, Phó Bí thư Chi bộ 2: | E11: Thành viên;
A12: 4. Ông Huỳnh Ngọc Mai, TB Thanh tra nhân dân: | E12: Thành viên;
A13: 5. Ông Nguyễn Hữu Thiện, Bí thư Đoàn trường: | E13: Thành viên;
A14: Là các thành viên Tổ kiểm phiếu theo Quyết định số 723/QĐ-LTT-TC ngày 29 tháng 6 năm 2018 của Trường Cao đẳng Lý Tự Trọng Tp. Hồ Chí Minh.
A15: Tiến hành kiểm phiếu do CB-NV phòng Kế hoạch - Tài chính bỏ phiếu trong cuộc họp tham khảo tín nhiệm viên chức quản lý tại phòng vào ngày 23/7/2018
A16: Tổng số phiếu: | C16: 10
A18: TT | B18: Họ và tên | C18: Chức vụ/Chức danh, Đơn vị công tác | D18: Số phiếu hợp lệ | E18: Số phiếu không hợp lệ | F18: Số phiếu tín nhiệm | G18: Tỷ lệ phiếu tín nhiệm
A19: 1 | B19: NGUYỄN KÍNH | C19: Trưởng phòng Kế hoạch - Tài chính | E19: =$C$16-D19 -> 10 | G19: =F19/$C$16 -> 0
A20: 2 | B20: NGUYỄN THỊ KIM DUNG | C20: Phó Trưởng phòng Kế hoạch - Tài chính | E20: =$C$16-D20 -> 10 | G20: =F20/$C$16 -> 0
A22: ……………………………………………………………………………………………… ……………………………………………………………………………………………………
A23: Chúng tôi đồng ký tên dưới đây, xác nhận việc kiểm phiếu được thực hiện chính xác, đúng quy định.
A24: Biên bản kết thúc lúc giờ phút ngày /7/2018.
B26: THÀNH VIÊN TỔ KIỂM PHIẾU | D26: TỔ TRƯỞNG TỔ KIỂM PHIẾU
A28: Lâm Viết Dũng: …………………………………
A29: Nguyễn Thị Hoa: ……………………………
A30: Huỳnh Ngọc Mai: ………………………………. | D30: Lê Xuân Thiện
A31: Nguyễn Hữu Thiện: ……………………………..

Sheet P. QLKH-HTQT
C2: ='TC-HC-TH'!C2:G2 -> Thành phố Hồ Chí Minh, ngày tháng 7 năm 2018
A4: BIÊN BẢN KIỂM PHIẾU TÍN NHIỆM VIÊN CHỨC QUẢN LÝ PHÒNG QUẢN LÝ KHOA HỌC - HỢP TÁC QUỐC TẾ NĂM 2018
A6: Hôm nay, vào lúc giờ phút, ngày 23/7/2018
A7: Tại: Phòng Tổ chức - HC - TH thuộc Trường Cao đẳng Lý Tự Trọng Tp. Hồ Chí Minh
A8: Chúng tôi gồm có:
A9: 1. Ông Lê Xuân Thiện, Phó Trưởng phòng TC-HC-TH: | E9: Tổ trưởng;
A10: 2. Ông Lâm Viết Dũng, Chủ tịch Công đoàn trường: | E10: Thành viên;
A11: 3. Bà Nguyễn Thị Hoa, Phó Bí thư Chi bộ 2: | E11: Thành viên;
A12: 4. Ông Huỳnh Ngọc Mai, TB Thanh tra nhân dân: | E12: Thành viên;
A13: 5. Ông Nguyễn Hữu Thiện, Bí thư Đoàn trường: | E13: Thành viên;
A14: Là các thành viên Tổ kiểm phiếu theo Quyết định số 723/QĐ-LTT-TC ngày 29 tháng 6 năm 2018 của Trường Cao đẳng Lý Tự Trọng Tp. Hồ Chí Minh.
A15: Tiến hành kiểm phiếu do CB-NV tổ phòng Quản lý khoa học - HTQT bỏ phiếu trong cuộc họp tham khảo tín nhiệm viên chức quản lý tại phòng vào ngày 23/7/2018
A16: Tổng số phiếu: | C16: 4
A18: TT | B18: Họ và tên | C18: Chức vụ/Chức danh, Đơn vị công tác | D18: Số phiếu hợp lệ | E18: Số phiếu không hợp lệ | F18: Số phiếu tín nhiệm | G18: Tỷ lệ phiếu tín nhiệm
A19: 1 | B19: NGUYỄN NGỌC TRANG | C19: Trưởng phòng Quản lý Khoa học - Hợp tác quốc tế | E19: =$C$16-D19 -> 4 | G19: =F19/$C$16 -> 0
A21: ……………………………………………………………………………………………… …………………………………………………………………………………………………… …………………………………………………………………………………………………
A22: Chúng tôi đồng ký tên dưới đây, xác nhận việc kiểm phiếu được thực hiện chính xác, đúng quy định.
A23: Biên bản kết thúc lúc giờ phút. ngày 23/7/2018.
B25: THÀNH VIÊN TỔ KIỂM PHIẾU | D25: TỔ TRƯỞNG TỔ KIỂM PHIẾU
A26: Lâm Viết Dũng: …………………………………
A27: Nguyễn Thị Hoa: ……………………………
A28: Huỳnh Ngọc Mai: ………………………………. | D28: Lê Xuân Thiện
A29: Nguyễn Hữu Thiện: ……………………………..

Sheet TỔ TT-PC
C2: ='TC-HC-TH'!C2:G2 -> Thành phố Hồ Chí Minh, ngày tháng 7 năm 2018
A4: BIÊN BẢN KIỂM PHIẾU TÍN NHIỆM VIÊN CHỨC QUẢN LÝ TỔ THANH TRA - PHÁP CHẾ NĂM 2018
A6: Hôm nay, vào lúc giờ phút , ngày 23/7/2018
A7: Tại: Phòng Tổ chức - HC - TH thuộc Trường Cao đẳng Lý Tự Trọng Tp. Hồ Chí Minh
A8: Chúng tôi gồm có:
A9: 1. Ông Lê Xuân Thiện, Phó Trưởng phòng TC-HC-TH: | E9: Tổ trưởng;
A10: 2. Ông Lâm Viết Dũng, Chủ tịch Công đoàn trường: | E10: Thành viên;
A11: 3. Bà Nguyễn Thị Hoa, Phó Bí thư Chi bộ 2: | E11: Thành viên;
A12: 4. Ông Huỳnh Ngọc Mai, TB Thanh tra nhân dân: | E12: Thành viên;
A13: 5. Ông Nguyễn Hữu Thiện, Bí thư Đoàn trường: | E13: Thành viên;
A14: Là các thành viên Tổ kiểm phiếu theo Quyết định số 723/QĐ-LTT-TC ngày 29 tháng 6 năm 2018 của Trường Cao đẳng Lý Tự Trọng Tp. Hồ Chí Minh.
A15: Tiến hành kiểm phiếu do CB-NV tổ Thanh tra - Pháp chế bỏ phiếu trong cuộc họp tham khảo tín nhiệm viên chức quản lý tại tổ vào ngày /7/2018
A16: Tổng số phiếu: | C16: 9
A18: TT | B18: Họ và tên | C18: Chức vụ/Chức danh, Đơn vị công tác | D18: Số phiếu hợp lệ | E18: Số phiếu không hợp lệ | F18: Số phiếu tín nhiệm | G18: Tỷ lệ phiếu tín nhiệm
A19: 1 | B19: NGUYỄN THANH LÂM | C19: Tổ trưởng tổ Thanh tra - Pháp chế | E19: =$C$16-D19 -> 9 | G19: =F19/$C$16 -> 0
A20: 2 | B20: PHẠM MINH NGHĨA | C20: Tổ phó tổ Thanh tra - Pháp chế | E20: =$C$16-D20 -> 9 | G20: =F20/$C$16 -> 0
A22: ……………………………………………………………………………………………… ……………………………………………………………………………………………………
A23: Chúng tôi đồng ký tên dưới đây, xác nhận việc kiểm phiếu được thực hiện chính xác, đúng quy định.
A24: Biên bản kết thúc lúc giờ phút ngày 23/7/2018.
B26: THÀNH VIÊN TỔ KIỂM PHIẾU | D26: TỔ TRƯỞNG TỔ KIỂM PHIẾU
A28: Lâm Viết Dũng: …………………………………
A29: Nguyễn Thị Hoa: ……………………………
A30: Huỳnh Ngọc Mai: ………………………………. | D30: Lê Xuân Thiện
A31: Nguyễn Hữu Thiện: ……………………………..

Sheet TT-TV
C2: ='TC-HC-TH'!C2:G2 -> Thành phố Hồ Chí Minh, ngày tháng 7 năm 2018
A4: BIÊN BẢN KIỂM PHIẾU TÍN NHIỆM VIÊN CHỨC QUẢN LÝ TRUNG TÂM TRUYỀN THÔNG - THƯ VIỆN NĂM 2018
A6: Hôm nay, vào lúc giờ phút , ngày 23/7/2018
A7: Tại: Phòng Tổ chức - HC - TH thuộc Trường Cao đẳng Lý Tự Trọng Tp. Hồ Chí Minh
A8: Chúng tôi gồm có:
A9: 1. Ông Lê Xuân Thiện, Phó Trưởng phòng TC-HC-TH: | E9: Tổ trưởng;
A10: 2. Ông Lâm Viết Dũng, Chủ tịch Công đoàn trường: | E10: Thành viên;
A11: 3. Bà Nguyễn Thị Hoa, Phó Bí thư Chi bộ 2: | E11: Thành viên;
A12: 4. Ông Huỳnh Ngọc Mai, TB Thanh tra nhân dân: | E12: Thành viên;
A13: 5. Ông Nguyễn Hữu Thiện, Bí thư Đoàn trường: | E13: Thành viên;
A14: Là các thành viên Tổ kiểm phiếu theo Quyết định số 723/QĐ-LTT-TC ngày 29 tháng 6 năm 2018 của Trường Cao đẳng Lý Tự Trọng Tp. Hồ Chí Minh.
A15: Tiến hành kiểm phiếu do CB-NV trung tâm Truyền thông - Thư viện bỏ phiếu trong cuộc họp tham khảo tín nhiệm viên chức quản lý tại trung tâm vào ngày /7/2018
A16: Tổng số phiếu: | C16: 7
A18: TT | B18: Họ và tên | C18: Chức vụ/Chức danh, Đơn vị công tác | D18: Số phiếu hợp lệ | E18: Số phiếu không hợp lệ | F18: Số phiếu tín nhiệm | G18: Tỷ lệ phiếu tín nhiệm
A19: 1 | B19: ĐỖ TUẤN VIỆT | C19: Trưởng trung tâm Truyền thông - Thư viện | E19: =$C$16-D19 -> 7 | G19: =F19/$C$16 -> 0
A21: ……………………………………………………………………………………………… ……………………………………………………………………………………………………
A22: Chúng tôi đồng ký tên dưới đây, xác nhận việc kiểm phiếu được thực hiện chính xác, đúng quy định.
A23: Biên bản kết thúc lúc giờ phút ngày 23/7/2018.
B26: THÀNH VIÊN TỔ KIỂM PHIẾU | D26: TỔ TRƯỞNG TỔ KIỂM PHIẾU
A28: Lâm Viết Dũng: …………………………………
A29: Nguyễn Thị Hoa: ……………………………
A30: Huỳnh Ngọc Mai: ………………………………. | D30: Lê Xuân Thiện
A31: Nguyễn Hữu Thiện: ……………………………..

Sheet TT YT
C2: ='TC-HC-TH'!C2:G2 -> Thành phố Hồ Chí Minh, ngày tháng 7 năm 2018
A3: BIÊN BẢN KIỂM PHIẾU TÍN NHIỆM VIÊN CHỨC QUẢN LÝ TRUNG TÂM Y TẾ NĂM 2018
A5: Hôm nay, vào lúc giờ phút , ngày 23/7/2018
A6: Tại: Phòng Tổ chức - HC - TH thuộc Trường Cao đẳng Lý Tự Trọng Tp. Hồ Chí Minh
A7: Chúng tôi gồm có:
A8: 1. Ông Lê Xuân Thiện, Phó Trưởng phòng TC-HC-TH: | E8: Tổ trưởng;
A9: 2. Ông Lâm Viết Dũng, Chủ tịch Công đoàn trường: | E9: Thành viên;
A10: 3. Bà Nguyễn Thị Hoa, Phó Bí thư Chi bộ 2: | E10: Thành viên;
A11: 4. Ông Huỳnh Ngọc Mai, TB Thanh tra nhân dân: | E11: Thành viên;
A12: 5. Ông Nguyễn Hữu Thiện, Bí thư Đoàn trường: | E12: Thành viên;
A13: Là các thành viên Tổ kiểm phiếu theo Quyết định số 723/QĐ-LTT-TC ngày 29 tháng 6 năm 2018 của Trường Cao đẳng Lý Tự Trọng Tp. Hồ Chí Minh.
A14: Tiến hành kiểm phiếu do CB-NV trung tâm Y tế bỏ phiếu trong cuộc họp tham khảo tín nhiệm viên chức quản lý tại phòng vào ngày 23/7/2018
A15: Tổng số phiếu: | C15: 3
A17: TT | B17: Họ và tên | C17: Chức vụ/Chức danh, Đơn vị công tác | D17: Số phiếu hợp lệ | E17: Số phiếu không hợp lệ | F17: Số phiếu tín nhiệm | G17: Tỷ lệ phiếu tín nhiệm
A18: 1 | B18: TRANG THỊ XUÂN UYÊN | C18: Trưởng trung tâm Y tế | E18: =$C$15-D18 -> 3 | G18: =F18/$C$15 -> 0
A20: ……………………………………………………………………………………………… …………………………………………………………………………………………………… ………………………………………………………………………………………………
A21: Chúng tôi đồng ký tên dưới đây, xác nhận việc kiểm phiếu được thực hiện chính xác, đúng quy định.
A22: Biên bản kết thúc lúc giờ phút ngày 23/7/2018.
B24: THÀNH VIÊN TỔ KIỂM PHIẾU | D24: TỔ TRƯỞNG TỔ KIỂM PHIẾU
A25: Lâm Viết Dũng: …………………………………
A26: Nguyễn Thị Hoa: ……………………………
A27: Huỳnh Ngọc Mai: ………………………………. | D27: Lê Xuân Thiện
A28: Nguyễn Hữu Thiện: ……………………………..

Sheet TTDT LTT
C2: ='TC-HC-TH'!C2:G2 -> Thành phố Hồ Chí Minh, ngày tháng 7 năm 2018
A4: BIÊN BẢN KIỂM PHIẾU TÍN NHIỆM VIÊN CHỨC QUẢN LÝ TRUNG TÂM ĐÀO TẠO LÝ TỰ TRỌNG NĂM 2018
A6: Hôm nay, vào lúc giờ phút , ngày 23/7/2018
A7: Tại: Phòng Tổ chức - HC - TH thuộc Trường Cao đẳng Lý Tự Trọng Tp. Hồ Chí Minh
A8: Chúng tôi gồm có:
A9: 1. Ông Lê Xuân Thiện, Phó Trưởng phòng TC-HC-TH: | E9: Tổ trưởng;
A10: 2. Ông Lâm Viết Dũng, Chủ tịch Công đoàn trường: | E10: Thành viên;
A11: 3. Bà Nguyễn Thị Hoa, Phó Bí thư Chi bộ 2: | E11: Thành viên;
A12: 4. Ông Huỳnh Ngọc Mai, TB Thanh tra nhân dân: | E12: Thành viên;
A13: 5. Ông Nguyễn Hữu Thiện, Bí thư Đoàn trường: | E13: Thành viên;
A14: Là các thành viên Tổ kiểm phiếu theo Quyết định số 723/QĐ-LTT-TC ngày 29 tháng 6 năm 2018 của Trường Cao đẳng Lý Tự Trọng Tp. Hồ Chí Minh.
A15: Tiến hành kiểm phiếu do CB-NV trung tâm Đào tạo Lý Tự Trọng bỏ phiếu trong cuộc họp tham khảo tín nhiệm viên chức quản lý tại trung tâm vào ngày 23/7/2018
A16: Tổng số phiếu: | C16: 4
A18: TT | B18: Họ và tên | C18: Chức vụ/Chức danh, Đơn vị công tác | D18: Số phiếu hợp lệ | E18: Số phiếu không hợp lệ | F18: Số phiếu tín nhiệm | G18: Tỷ lệ phiếu tín nhiệm
A19: 1 | B19: NGUYỄN NGỌC TRANG | C19: Phó Giám đốc TT Đào tạo Lý Tự Trọng | D19: 5 | E19: =$C$16-D19 -> -1 | F19: 2 | G19: =F19/$C$16 -> 0.5
A21: ……………………………………………………………………………………………… ……………………………………………………………………………………………………
A22: Chúng tôi đồng ký tên dưới đây, xác nhận việc kiểm phiếu được thực hiện chính xác, đúng quy định.
A23: Biên bản kết thúc lúc giờ phút ngày 23/7/2018.
B25: THÀNH VIÊN TỔ KIỂM PHIẾU | D25: TỔ TRƯỞNG TỔ KIỂM PHIẾU
A27: Lâm Viết Dũng: …………………………………
A28: Nguyễn Thị Hoa: ……………………………
A29: Huỳnh Ngọc Mai: ………………………………. | D29: Lê Xuân Thiện
A30: Nguyễn Hữu Thiện: ……………………………..

Sheet TT QHDN
C2: ='TC-HC-TH'!C2:G2 -> Thành phố Hồ Chí Minh, ngày tháng 7 năm 2018
A4: BIÊN BẢN KIỂM PHIẾU TÍN NHIỆM VIÊN CHỨC QUẢN LÝ TRUNG TÂM QUAN HỆ DOANH NGHIỆP NĂM 2018
A6: Hôm nay, vào lúc giờ phút , ngày 23/7/2018
A7: Tại: Phòng Tổ chức - HC - TH thuộc Trường Cao đẳng Lý Tự Trọng Tp. Hồ Chí Minh
A8: Chúng tôi gồm có:
A9: 1. Ông Lê Xuân Thiện, Phó Trưởng phòng TC-HC-TH: | E9: Tổ trưởng;
A10: 2. Ông Lâm Viết Dũng, Chủ tịch Công đoàn trường: | E10: Thành viên;
A11: 3. Bà Nguyễn Thị Hoa, Phó Bí thư Chi bộ 2: | E11: Thành viên;
A12: 4. Ông Huỳnh Ngọc Mai, TB Thanh tra nhân dân: | E12: Thành viên;
A13: 5. Ông Nguyễn Hữu Thiện, Bí thư Đoàn trường: | E13: Thành viên;
A14: Là các thành viên Tổ kiểm phiếu theo Quyết định số 723/QĐ-LTT-TC ngày 29 tháng 6 năm 2018 của Trường Cao đẳng Lý Tự Trọng Tp. Hồ Chí Minh.
A15: Tiến hành kiểm phiếu do CB-NV trung tâm Quan hệ doanh nghiệp bỏ phiếu trong cuộc họp tham khảo tín nhiệm viên chức quản lý tại trung tâm vào ngày 23/7/2018
A16: Tổng số phiếu:
A18: TT | B18: Họ và tên | C18: Chức vụ/Chức danh, Đơn vị công tác | D18: Số phiếu hợp lệ | E18: Số phiếu không hợp lệ | F18: Số phiếu tín nhiệm | G18: Tỷ lệ phiếu tín nhiệm
A19: 1 | B19: NGUYỄN NGỌC TRANG | C19: Phó Giám đốc TT Đào tạo Lý Tự Trọng | D19: 5 | E19: =$C$16-D19 -> -5 | F19: 2 | G19: =F19/$C$16 -> #DIV/0!
A21: ……………………………………………………………………………………………… ……………………………………………………………………………………………………
A22: Chúng tôi đồng ký tên dưới đây, xác nhận việc kiểm phiếu được thực hiện chính xác, đúng quy định.
A23: Biên bản kết thúc lúc giờ phút ngày 23/7/2018.
B25: THÀNH VIÊN TỔ KIỂM PHIẾU | D25: TỔ TRƯỞNG TỔ KIỂM PHIẾU
A27: Lâm Viết Dũng: …………………………………
A28: Nguyễn Thị Hoa: ……………………………
A29: Huỳnh Ngọc Mai: ………………………………. | D29: Lê Xuân Thiện
A30: Nguyễn Hữu Thiện: ……………………………..

Sheet TC-HC-TH
C2: Thành phố Hồ Chí Minh, ngày tháng 7 năm 2018
A4: BIÊN BẢN KIỂM PHIẾU TÍN NHIỆM VIÊN CHỨC QUẢN LÝ PHÒNG TỔ CHỨC – HÀNH CHÍNH – TỔNG HỢP NĂM 2018
A6: Hôm nay, vào lúc giờ phút, ngày 23/7/2018
A7: Tại: Phòng Tổ chức - HC - TH thuộc Trường Cao đẳng Lý Tự Trọng Tp. Hồ Chí Minh
A8: Chúng tôi gồm có:
A9: 1. Ông Lê Xuân Thiện, Phó Trưởng phòng TC-HC-TH: | E9: Tổ trưởng;
A10: 2. Ông Lâm Viết Dũng, Chủ tịch Công đoàn trường: | E10: Thành viên;
A11: 3. Bà Trần Kim Thu Liễu, Phó Bí thư Chi bộ 2: | E11: Thành viên;
A12: 4. Ông Huỳnh Ngọc Mai, TB Thanh tra nhân dân: | E12: Thành viên;
A13: 5. Ông Nguyễn Hữu Thiện, Bí thư Đoàn trường: | E13: Thành viên;
A14: Là các thành viên Tổ kiểm phiếu theo Quyết định số 723/QĐ-LTT-TC ngày 29 tháng 6 năm 2018 của Trường Cao đẳng Lý Tự Trọng Tp. Hồ Chí Minh.
A15: Tiến hành kiểm phiếu do CB-NV phòng Tổ chức – Hành chính – Tổng hợp bỏ phiếu trong cuộc họp tham khảo tín nhiệm viên chức quản lý tại phòng vào ngày 23/7/2018
A16: Tổng số phiếu: | C16: 18
A18: TT | B18: Họ và tên | C18: Chức vụ/Chức danh, Đơn vị công tác | D18: Số phiếu hợp lệ | E18: Số phiếu không hợp lệ | F18: Số phiếu tín nhiệm | G18: Tỷ lệ phiếu tín nhiệm
A19: 1 | B19: LÊ XUÂN THIỆN | C19: Phó Trưởng phòng, Phụ trách phòng TC-HC-TH | E19: =$C$16-D19 -> 18 | G19: =F19/$C$16 -> 0
A20: 2 | B20: NGUYỄN THỊ HOA | C20: Phó Trưởng phòng TC-HC-TH | E20: =$C$16-D20 -> 18 | G20: =F20/$C$16 -> 0
A21: 3 | B21: NGUYỄN THÀNH NAM | C21: Phó Trưởng phòng TC-HC-TH | E21: =$C$16-D21 -> 18 | G21: =F21/$C$16 -> 0
A22: 4 | B22: PHẠM HỮU TẤN | C22: Tổ trưởng tổ Bảo vệ thuộc phòng TC-HC-TH | E22: =$C$16-D22 -> 18 | G22: =F22/$C$16 -> 0
A24: ……………………………………………………………………………………………… ……………………………………………………………………………………………………
A25: Chúng tôi đồng ký tên dưới đây, xác nhận việc kiểm phiếu được thực hiện chính xác, đúng quy định.
A26: Biên bản kết thúc lúc giờ phút ngày 23/7/2018.
B28: THÀNH VIÊN TỔ KIỂM PHIẾU | D28: TỔ TRƯỞNG TỔ KIỂM PHIẾU
A30: Lâm Viết Dũng: …………………………………
A31: Trần Kim Thu Liễu: ……………………………
A32: Huỳnh Ngọc Mai: ………………………………. | D32: Lê Xuân Thiện
A33: Nguyễn Hữu Thiện: ……………………………..

Sheet QT-DV
C2: ='TC-HC-TH'!C2:G2 -> Thành phố Hồ Chí Minh, ngày tháng 7 năm 2018
A4: BIÊN BẢN KIỂM PHIẾU TÍN NHIỆM VIÊN CHỨC QUẢN LÝ PHÒNG QUẢN TRỊ - DỊCH VỤ - NĂM 2018
A6: Hôm nay, vào lúc giờ phút, ngày 23/7/2018
A7: Tại: Phòng Tổ chức - HC - TH thuộc Trường Cao đẳng Lý Tự Trọng Tp. Hồ Chí Minh
A8: Chúng tôi gồm có:
A9: 1. Ông Lê Xuân Thiện, Phó Trưởng phòng TC-HC-TH: | E9: Tổ trưởng;
A10: 2. Ông Lâm Viết Dũng, Chủ tịch Công đoàn trường: | E10: Thành viên;
A11: 3. Bà Trần Kim Thu Liễu, Phó Bí thư Chi bộ 2: | E11: Thành viên;
A12: 4. Ông Huỳnh Ngọc Mai, TB Thanh tra nhân dân: | E12: Thành viên;
A13: 5. Ông Nguyễn Hữu Thiện, Bí thư Đoàn trường: | E13: Thành viên;
A14: Là các thành viên Tổ kiểm phiếu theo Quyết định số 723/QĐ-LTT-TC ngày 29 tháng 6 năm 2018 của Trường Cao đẳng Lý Tự Trọng Tp. Hồ Chí Minh.
A15: Tiến hành kiểm phiếu do CB-NV phòng Quản trị - Dịch vụ bỏ phiếu trong cuộc họp tham khảo tín nhiệm viên chức quản lý tại phòng vào ngày /7/2018
A16: Tổng số phiếu: | C16: 30
A18: TT | B18: Họ và tên | C18: Chức vụ/Chức danh, Đơn vị công tác | D18: Số phiếu hợp lệ | E18: Số phiếu không hợp lệ | F18: Số phiếu tín nhiệm | G18: Tỷ lệ phiếu tín nhiệm
A19: 1 | B19: LÊ QUANG LIÊM | C19: Trưởng phòng Quản trị - Dịch vụ | E19: =$C$16-D19 -> 30 | G19: =F19/$C$16 -> 0
A20: 2 | B20: NGUYỄN VĂN THÀNH | C20: Phó Trưởng phòng Quản trị - Dịch vụ | E20: =$C$16-D20 -> 30 | G20: =F20/$C$16 -> 0
A21: 3 | B21: NGUYỄN TRỌNG PHÚ | C21: Tổ trưởng tổ Sửa chữa cơ bản | E21: =$C$16-D21 -> 30 | G21: =F21/$C$16 -> 0
A22: 4 | B22: TRẦN THỊ THU | C22: Tổ trưởng tổ Môi trường | E22: =$C$16-D22 -> 30 | G22: =F22/$C$16 -> 0
A23: ……………………………………………………………………………………………… ……………………………………………………………………………………………………
A24: Chúng tôi đồng ký tên dưới đây, xác nhận việc kiểm phiếu được thực hiện chính xác, đúng quy định.
A25: Biên bản kết thúc lúc giờ phút Ngày 23/7/2018.
B27: THÀNH VIÊN TỔ KIỂM PHIẾU | D27: TỔ TRƯỞNG TỔ KIỂM PHIẾU
A29: Lâm Viết Dũng: …………………………………
A30: Trần Kim Thu Liễu: ……………………………
A31: Huỳnh Ngọc Mai: ………………………………. | D31: Lê Xuân Thiện
A32: Nguyễn Hữu Thiện: ……………………………..

Sheet KHCB
C2: Thành phố Hồ Chí Minh, ngày tháng 7 năm 2018
A4: BIÊN BẢN KIỂM PHIẾU TÍN NHIỆM VIÊN CHỨC QUẢN LÝ KHOA KHOA HỌC CƠ BẢN NĂM 2018
A6: Hôm nay, vào lúc giờ phút, ngày 23/7/2018
A7: Tại: Phòng Tổ chức - HC - TH thuộc Trường Cao đẳng Lý Tự Trọng Tp. Hồ Chí Minh
A8: Chúng tôi gồm có:
A9: 1. Ông Lê Xuân Thiện, Phó Trưởng phòng TC-HC-TH: | E9: Tổ trưởng;
A10: 2. Ông Lâm Viết Dũng, Chủ tịch Công đoàn trường: | E10: Thành viên;
A11: 3. Bà Trần Kim Thu Liễu, Bí thư Chi bộ 1: | E11: Thành viên;
A12: 4. Ông Huỳnh Ngọc Mai, TB Thanh tra nhân dân: | E12: Thành viên;
A13: 5. Ông Nguyễn Hữu Thiện, Bí thư Đoàn trường: | E13: Thành viên;
A14: Là các thành viên Tổ kiểm phiếu theo Quyết định số 723/QĐ-LTT-TC ngày 29 tháng 6 năm 2018 của Trường Cao đẳng Lý Tự Trọng Tp. Hồ Chí Minh.
A15: Tiến hành kiểm phiếu do CB-GV khoa Khoa học cơ bản bỏ phiếu trong cuộc họp tham khảo tín nhiệm viên chức quản lý tại khoa vào ngày /7/2018
A16: Tổng số phiếu: | C16: 26
A18: TT | B18: Họ và tên | C18: Chức vụ/Chức danh, Đơn vị công tác | D18: Số phiếu hợp lệ | E18: Số phiếu không hợp lệ | F18: Số phiếu tín nhiệm | G18: Tỷ lệ phiếu tín nhiệm
A19: 1 | B19: TRẦN KIM THU LIỄU | C19: Trưởng khoa KHCB | E19: =$C$16-D19 -> 26 | G19: =F19/$C$16 -> 0
A20: 2 | B20: PHẠM THỊ THU NGA | C20: Trưởng bộ môn Toán | E20: =$C$16-D20 -> 26 | G20: =F20/$C$16 -> 0
A21: 3 | B21: NGUYỄN THỊ HUYỀN NGA | C21: Trưởng bộ môn Lý - Hóa | E21: =$C$16-D21 -> 26 | G21: =F21/$C$16 -> 0
A22: 4 | B22: LÊ THÁI HÙNG | C22: Trưởng bộ môn Giáo dục thể chất | E22: =$C$16-D22 -> 26 | G22: =F22/$C$16 -> 0
A24: ……………………………………………………………………………………………… ……………………………………………………………………………………………………
A25: Chúng tôi đồng ký tên dưới đây, xác nhận việc kiểm phiếu được thực hiện chính xác, đúng quy định.
A26: Biên bản kết thúc lúc giờ phút ngày 23/7/2018.
B28: THÀNH VIÊN TỔ KIỂM PHIẾU | D28: TỔ TRƯỞNG TỔ KIỂM PHIẾU
A30: Lâm Viết Dũng: …………………………………
A31: Trần Kim Thu Liễu: ……………………………
A32: Huỳnh Ngọc Mai: ………………………………. | D32: Lê Xuân Thiện
A33: Nguyễn Hữu Thiện: ……………………………..

Sheet LLCT
C2: Thành phố Hồ Chí Minh, ngày tháng 7 năm 2018
A4: BIÊN BẢN KIỂM PHIẾU TÍN NHIỆM VIÊN CHỨC QUẢN LÝ KHOA LÝ LUẬN CHÍNH TRỊ NĂM 2018
A6: Hôm nay, vào lúc giờ phút, ngày 23/7/2018
A7: Tại: Phòng Tổ chức - HC - TH thuộc Trường Cao đẳng Lý Tự Trọng Tp. Hồ Chí Minh
A8: Chúng tôi gồm có:
A9: 1. Ông Lê Xuân Thiện, Phó Trưởng phòng TC-HC-TH: | E9: Tổ trưởng;
A10: 2. Ông Lâm Viết Dũng, Chủ tịch Công đoàn trường: | E10: Thành viên;
A11: 3. Bà Trần Kim Thu Liễu, Bí thư Chi bộ 1: | E11: Thành viên;
A12: 4. Ông Huỳnh Ngọc Mai, TB Thanh tra nhân dân: | E12: Thành viên;
A13: 5. Ông Nguyễn Hữu Thiện, Bí thư Đoàn trường: | E13: Thành viên;
A14: Là các thành viên Tổ kiểm phiếu theo Quyết định số 723/QĐ-LTT-TC ngày 29 tháng 6 năm 2018 của Trường Cao đẳng Lý Tự Trọng Tp. Hồ Chí Minh.
A15: Tiến hành kiểm phiếu do CB-GV khoa Lý luận Chính trị bỏ phiếu trong cuộc họp tham khảo tín nhiệm viên chức quản lý tại khoa vào ngày 23/7/2018
A16: Tổng số phiếu: | C16: 13
A18: TT | B18: Họ và tên | C18: Chức vụ/Chức danh, Đơn vị công tác | D18: Số phiếu hợp lệ | E18: Số phiếu không hợp lệ | F18: Số phiếu tín nhiệm | G18: Tỷ lệ phiếu tín nhiệm
A19: 1 | B19: NGUYỄN NGỌC QUỲNH | C19: Phó Trưởng khoa, Phụ trách khoa Lý luận Chính trị | E19: =$C$16-D19 -> 13 | G19: =F19/$C$16 -> 0
A20: 2 | B20: LÊ THỊ HỒNG VÂN | C20: Phó Trưởng khoa Lý luận Chính trị | E20: =$C$16-D20 -> 13 | G20: =F20/$C$16 -> 0
A21: 3 | B21: ĐẶNG THỊ NHẬT MINH | C21: Phụ trách tổ bộ môn Pháp luật thuộc khoa Lý luận Chính trị | E21: =$C$16-D21 -> 13 | G21: =F21/$C$16 -> 0
A22: 4 | B22: ĐINH THỊ HUYÊN | C22: Trưởng bộ môn Tư tưởng HCM - Đường lối CM ĐCSVN thuộc khoa Lý luận Chính trị | E22: =$C$16-D22 -> 13 | G22: =F22/$C$16 -> 0
A23: 5 | B23: PHAN THỊ THÙY TRANG | C23: Trưởng bộ môn Những nguyên lý cơ bản của CN Mac-Lênin thuộc khoa Lý luận Chính trị | E23: =$C$16-D23 -> 13 | G23: =F23/$C$16 -> 0
A25: ……………………………………………………………………………………………… …………………………………………………………………………………………………… ……………………………………………………………………………………………… ……………………………………………………………………………………………………
A26: Chúng tôi đồng ký tên dưới đây, xác nhận việc kiểm phiếu được thực hiện chính xác, đúng quy định.
A27: Biên bản kết thúc lúc giờ phút ngày 23/7/2018.
B29: THÀNH VIÊN TỔ KIỂM PHIẾU | D29: TỔ TRƯỞNG TỔ KIỂM PHIẾU
A31: Lâm Viết Dũng: …………………………………
A32: Trần Kim Thu Liễu: ……………………………
A33: Huỳnh Ngọc Mai: ………………………………. | D33: Lê Xuân Thiện
A34: Nguyễn Hữu Thiện: ……………………………..

Sheet KINH TẾ
C2: Thành phố Hồ Chí Minh, ngày tháng 7 năm 2018
A4: BIÊN BẢN KIỂM PHIẾU TÍN NHIỆM VIÊN CHỨC QUẢN LÝ KHOA KINH TẾ NĂM 2018
A6: Hôm nay, vào lúc giờ phút, ngày 23/7/2018
A7: Tại: Phòng Tổ chức - HC - TH thuộc Trường Cao đẳng Lý Tự Trọng Tp. Hồ Chí Minh
A8: Chúng tôi gồm có:
A9: 1. Ông Lê Xuân Thiện, Phó Trưởng phòng TC-HC-TH: | E9: Tổ trưởng;
A10: 2. Ông Lâm Viết Dũng, Chủ tịch Công đoàn trường: | E10: Thành viên;
A11: 3. Bà Trần Kim Thu Liễu, Bí thư Chi bộ 1: | E11: Thành viên;
A12: 4. Ông Huỳnh Ngọc Mai, TB Thanh tra nhân dân: | E12: Thành viên;
A13: 5. Ông Nguyễn Hữu Thiện, Bí thư Đoàn trường: | E13: Thành viên;
A14: Là các thành viên Tổ kiểm phiếu theo Quyết định số 723/QĐ-LTT-TC ngày 29 tháng 6 năm 2018 của Trường Cao đẳng Lý Tự Trọng Tp. Hồ Chí Minh.
A15: Tiến hành kiểm phiếu do CB-GV khoa Kinh tế bỏ phiếu trong cuộc họp tham khảo tín nhiệm viên chức quản lý tại khoa vào ngày 06/7/2018
A16: Tổng số phiếu: | C16: 11
A18: TT | B18: Họ và tên | C18: Chức vụ/Chức danh, Đơn vị công tác | D18: Số phiếu hợp lệ | E18: Số phiếu không hợp lệ | F18: Số phiếu tín nhiệm | G18: Tỷ lệ phiếu tín nhiệm
A19: 1 | B19: NGUYỄN TRỌNG NGHĨA | C19: Trưởng khoa Kinh tế | E19: =$C$16-D19 -> 11 | G19: =F19/$C$16 -> 0
A21: ……………………………………………………………………………………………… ……………………………………………………………………………………………………
A22: Chúng tôi đồng ký tên dưới đây, xác nhận việc kiểm phiếu được thực hiện chính xác, đúng quy định.
A23: Biên bản kết thúc lúc giờ phút ngày 23/7/2018.
B25: THÀNH VIÊN TỔ KIỂM PHIẾU | D25: TỔ TRƯỞNG TỔ KIỂM PHIẾU
A27: Lâm Viết Dũng: …………………………………
A28: Trần Kim Thu Liễu: ……………………………
A29: Huỳnh Ngọc Mai: ………………………………. | D29: Lê Xuân Thiện
A30: Nguyễn Hữu Thiện: ……………………………..

Sheet CN CK
C2: Thành phố Hồ Chí Minh, ngày tháng 7 năm 2018
A4: BIÊN BẢN KIỂM PHIẾU TÍN NHIỆM VIÊN CHỨC QUẢN LÝ KHOA CÔNG NGHỆ CƠ KHÍ NĂM 2018
A6: Hôm nay, vào lúc giờ phút, ngày 23/7/2018
A7: Tại: Phòng Tổ chức - HC - TH thuộc Trường Cao đẳng Lý Tự Trọng Tp. Hồ Chí Minh
A8: Chúng tôi gồm có:
A9: 1. Ông Lê Xuân Thiện, Phó Trưởng phòng TC-HC-TH: | E9: Tổ trưởng;
A10: 2. Ông Lâm Viết Dũng, Chủ tịch Công đoàn trường: | E10: Thành viên;
A11: 3. Ông Châu Văn Bảo, Bí thư Chi bộ 3: | E11: Thành viên;
A12: 4. Ông Huỳnh Ngọc Mai, TB Thanh tra nhân dân: | E12: Thành viên;
A13: 5. Ông Nguyễn Hữu Thiện, Bí thư Đoàn trường: | E13: Thành viên;
A14: Là các thành viên Tổ kiểm phiếu theo Quyết định số 723/QĐ-LTT-TC ngày 29 tháng 6 năm 2018 của Trường Cao đẳng Lý Tự Trọng Tp. Hồ Chí Minh.
A15: Tiến hành kiểm phiếu do CB-GV khoa Công nghệ Cơ khí bỏ phiếu trong cuộc họp tham khảo tín nhiệm viên chức quản lý tại khoa vào ngày /7/2018
A16: Tổng số phiếu:
A18: TT | B18: Họ và tên | C18: Chức vụ/Chức danh, Đơn vị công tác | D18: Số phiếu hợp lệ | E18: Số phiếu không hợp lệ | F18: Số phiếu tín nhiệm | G18: Tỷ lệ phiếu tín nhiệm
A19: 1 | B19: CHUNG TRẦN THẾ VINH | C19: Trưởng khoa CN Cơ khí | E19: =$C$16-D19 -> 0 | G19: =F19/$C$16 -> #DIV/0!
A20: 2 | B20: TRẦN ĐÌNH KHẢI | C20: Phó Trưởng khoa CN Cơ khí | E20: =$C$16-D20 -> 0 | G20: =F20/$C$16 -> #DIV/0!
A21: 3 | B21: VŨ ĐỨC PHÁP | C21: Trưởng bộ môn Công nghệ chế tạo | E21: =$C$16-D21 -> 0 | G21: =F21/$C$16 -> #DIV/0!
A22: 4 | B22: BÙI ANH TUẤN | C22: Trưởng BM Cơ điện - Cơ điện tử
A23: 5 | B23: VŨ QUANG KHẢI | C23: Phụ trách tổ bộ môn Cơ sở cơ khí | E23: =$C$16-D23 -> 0 | G23: =F23/$C$16 -> #DIV/0!
A25: ……………………………………………………………………………………………… ……………………………………………………………………………………………………
A26: Chúng tôi đồng ký tên dưới đây, xác nhận việc kiểm phiếu được thực hiện chính xác, đúng quy định.
A27: Biên bản kết thúc lúc giờ phút ngày 23/7/2018.
B29: THÀNH VIÊN TỔ KIỂM PHIẾU | D29: TỔ TRƯỞNG TỔ KIỂM PHIẾU
A31: Lâm Viết Dũng: …………………………………
A32: Châu Văn Bảo: ……………………………
A33: Huỳnh Ngọc Mai: ………………………………. | D33: Lê Xuân Thiện
A34: Nguyễn Hữu Thiện: ……………………………..

Sheet CN Đ-ĐT
C2: Thành phố Hồ Chí Minh, ngày tháng 7 năm 2018
A4: BIÊN BẢN KIỂM PHIẾU TÍN NHIỆM VIÊN CHỨC QUẢN LÝ KHOA CÔNG NGHỆ ĐIỆN - ĐIỆN TỬ NĂM 2018
A6: Hôm nay, vào lúc giờ phút, ngày 23/7/2018
A7: Tại: Phòng Tổ chức - HC - TH thuộc Trường Cao đẳng Lý Tự Trọng Tp. Hồ Chí Minh
A8: Chúng tôi gồm có:
A9: 1. Ông Lê Xuân Thiện, Phó Trưởng phòng TC-HC-TH: | E9: Tổ trưởng;
A10: 2. Ông Lâm Viết Dũng, Chủ tịch Công đoàn trường: | E10: Thành viên;
A11: 3. Ông Châu Văn Bảo, Bí thư Chi bộ 3: | E11: Thành viên;
A12: 4. Ông Huỳnh Ngọc Mai, TB Thanh tra nhân dân: | E12: Thành viên;
A13: 5. Ông Nguyễn Hữu Thiện, Bí thư Đoàn trường: | E13: Thành viên;
A14: Là các thành viên Tổ kiểm phiếu theo Quyết định số 723/QĐ-LTT-TC ngày 29 tháng 6 năm 2018 của Trường Cao đẳng Lý Tự Trọng Tp. Hồ Chí Minh.
A15: Tiến hành kiểm phiếu do CB-GV khoa Công nghệ Điện - Điện tử bỏ phiếu trong cuộc họp tham khảo tín nhiệm viên chức quản lý tại khoa vào ngày /7/2018
A16: Tổng số phiếu:
A18: TT | B18: Họ và tên | C18: Chức vụ/Chức danh, Đơn vị công tác | D18: Số phiếu hợp lệ | E18: Số phiếu không hợp lệ | F18: Số phiếu tín nhiệm | G18: Tỷ lệ phiếu tín nhiệm
A19: 1 | B19: CHÂU VĂN BẢO | C19: Trưởng khoa CN Điện - Điện tử | E19: =$C$16-D19 -> 0 | G19: =F19/$C$16 -> #DIV/0!
A20: 2 | B20: TẠ MINH CƯỜNG | C20: Phó Trưởng khoa CN Điện - ĐT | E20: =$C$16-D20 -> 0 | G20: =F20/$C$16 -> #DIV/0!
A21: 3 | B21: VÕ CƯỜNG | C21: Trưởng BM Điện tử công nghiệp | E21: =$C$16-D21 -> 0 | G21: =F21/$C$16 -> #DIV/0!
A22: 4 | B22: HUỲNH NGỌC MAI | C22: Trưởng BM Tự động hóa
A23: 5 | B23: QUÁCH MINH THỬ | C23: Trưởng BM Điện công nghiệp | E23: =$C$16-D23 -> 0 | G23: =F23/$C$16 -> #DIV/0!
A25: ……………………………………………………………………………………………… ……………………………………………………………………………………………………
A26: Chúng tôi đồng ký tên dưới đây, xác nhận việc kiểm phiếu được thực hiện chính xác, đúng quy định.
A27: Biên bản kết thúc lúc giờ phút ngày 23/7/2018.
B29: THÀNH VIÊN TỔ KIỂM PHIẾU | D29: TỔ TRƯỞNG TỔ KIỂM PHIẾU
A31: Lâm Viết Dũng: …………………………………
A32: Châu Văn Bảo: ……………………………
A33: Huỳnh Ngọc Mai: ………………………………. | D33: Lê Xuân Thiện
A34: Nguyễn Hữu Thiện: ……………………………..

Sheet CNTT
C2: Thành phố Hồ Chí Minh, ngày tháng 7 năm 2018
A4: BIÊN BẢN KIỂM PHIẾU TÍN NHIỆM VIÊN CHỨC QUẢN LÝ KHOA CÔNG NGHỆ THÔNG TIN NĂM 2018
A6: Hôm nay, vào lúc giờ phút, ngày 23/7/2018
A7: Tại: Phòng Tổ chức - HC - TH thuộc Trường Cao đẳng Lý Tự Trọng Tp. Hồ Chí Minh
A8: Chúng tôi gồm có:
A9: 1. Ông Lê Xuân Thiện, Phó Trưởng phòng TC-HC-TH: | E9: Tổ trưởng;
A10: 2. Ông Lâm Viết Dũng, Chủ tịch Công đoàn trường: | E10: Thành viên;
A11: 3. Ông Châu Văn Bảo, Bí thư Chi bộ 3: | E11: Thành viên;
A12: 4. Ông Huỳnh Ngọc Mai, TB Thanh tra nhân dân: | E12: Thành viên;
A13: 5. Ông Nguyễn Hữu Thiện, Bí thư Đoàn trường: | E13: Thành viên;
A14: Là các thành viên Tổ kiểm phiếu theo Quyết định số 723/QĐ-LTT-TC ngày 29 tháng 6 năm 2018 của Trường Cao đẳng Lý Tự Trọng Tp. Hồ Chí Minh.
A15: Tiến hành kiểm phiếu do CB-GV khoa Công nghệ thông tin bỏ phiếu trong cuộc họp tham khảo tín nhiệm viên chức quản lý tại khoa vào ngày /7/2018
A16: Tổng số phiếu: | C16: 23
A18: TT | B18: Họ và tên | C18: Chức vụ/Chức danh, Đơn vị công tác | D18: Số phiếu hợp lệ | E18: Số phiếu không hợp lệ | F18: Số phiếu tín nhiệm | G18: Tỷ lệ phiếu tín nhiệm
A19: 1 | B19: NGUYỄN KHOA | C19: Phó Trưởng khoa, Phụ trách khoa Công nghệ thông tin | E19: =$C$16-D19 -> 23 | G19: =F19/$C$16 -> 0
A20: 2 | B20: NGUYỄN VÂN GIANG | C20: Phó Trưởng khoa Công nghệ thông tin | E20: =$C$16-D20 -> 23 | G20: =F20/$C$16 -> 0
A21: 3 | B21: VŨ THỊ THÁI LINH | C21: Trưởng BM Khoa học máy tính | E21: =$C$16-D21 -> 23 | G21: =F21/$C$16 -> 0
A22: 4 | B22: TRẦN VIỆT KHÁNH | C22: Trưởng BM Công nghệ phần mềm
A23: 5 | B23: NGUYỄN VĂN ĐÔN | C23: Trưởng BM Mạng máy tính | E23: =$C$16-D23 -> 23 | G23: =F23/$C$16 -> 0
A25: ……………………………………………………………………………………………… ……………………………………………………………………………………………………
A26: Chúng tôi đồng ký tên dưới đây, xác nhận việc kiểm phiếu được thực hiện chính xác, đúng quy định.
A27: Biên bản kết thúc lúc giờ phút ngày 23/7/2018.
B29: THÀNH VIÊN TỔ KIỂM PHIẾU | D29: TỔ TRƯỞNG TỔ KIỂM PHIẾU
A31: Lâm Viết Dũng: …………………………………
A32: Châu Văn Bảo: ……………………………
A33: Huỳnh Ngọc Mai: ………………………………. | D33: Lê Xuân Thiện
A34: Nguyễn Hữu Thiện: ……………………………..

Sheet CN ĐL
C2: Thành phố Hồ Chí Minh, ngày tháng 7 năm 2018
A4: BIÊN BẢN KIỂM PHIẾU TÍN NHIỆM VIÊN CHỨC QUẢN LÝ KHOA CÔNG NGHỆ ĐỘNG LỰC NĂM 2018
A6: Hôm nay, vào lúc giờ phút, ngày 23/7/2018
A7: Tại: Phòng Tổ chức - HC - TH thuộc Trường Cao đẳng Lý Tự Trọng Tp. Hồ Chí Minh
A8: Chúng tôi gồm có:
A9: 1. Ông Lê Xuân Thiện, Phó Trưởng phòng TC-HC-TH: | E9: Tổ trưởng;
A10: 2. Ông Lâm Viết Dũng, Chủ tịch Công đoàn trường: | E10: Thành viên;
A11: 3. Ông Châu Văn Bảo, Bí thư Chi bộ 3: | E11: Thành viên;
A12: 4. Ông Huỳnh Ngọc Mai, TB Thanh tra nhân dân: | E12: Thành viên;
A13: 5. Ông Nguyễn Hữu Thiện, Bí thư Đoàn trường: | E13: Thành viên;
A14: Là các thành viên Tổ kiểm phiếu theo Quyết định số 723/QĐ-LTT-TC ngày 29 tháng 6 năm 2018 của Trường Cao đẳng Lý Tự Trọng Tp. Hồ Chí Minh.
A15: Tiến hành kiểm phiếu do CB-GV khoa Công nghệ Động lực bỏ phiếu trong cuộc họp tham khảo tín nhiệm viên chức quản lý tại khoa vào ngày 06/7/2018
A16: Tổng số phiếu: | C16: 16
A18: TT | B18: Họ và tên | C18: Chức vụ/Chức danh, Đơn vị công tác | D18: Số phiếu hợp lệ | E18: Số phiếu không hợp lệ | F18: Số phiếu tín nhiệm | G18: Tỷ lệ phiếu tín nhiệm
A19: 1 | B19: NGUYỄN ANH TUẤN | C19: Trưởng khoa CN Động lực | E19: =$C$16-D19 -> 16 | G19: =F19/$C$16 -> 0
A20: 2 | B20: VÕ ĐẮC THỊNH | C20: Phó Trưởng khoa CN Động lực | E20: =$C$16-D20 -> 16 | G20: =F20/$C$16 -> 0
A21: 3 | B21: ĐẶNG THÁI SƠN | C21: Trưởng BM Điện Ô tô | E21: =$C$16-D21 -> 16 | G21: =F21/$C$16 -> 0
A22: 4 | B22: NGUYỄN HỮU MẠNH | C22: Trưởng BM Gầm Ô tô
A23: 5 | B23: TRIỆU PHÚ NGUYÊN | C23: Phụ trách BM Động cơ Ô tô | E23: =$C$16-D23 -> 16 | G23: =F23/$C$16 -> 0
A25: ……………………………………………………………………………………………… ……………………………………………………………………………………………………
A26: Chúng tôi đồng ký tên dưới đây, xác nhận việc kiểm phiếu được thực hiện chính xác, đúng quy định.
A27: Biên bản kết thúc lúc giờ phút ngày 23/7/2018.
B29: THÀNH VIÊN TỔ KIỂM PHIẾU | D29: TỔ TRƯỞNG TỔ KIỂM PHIẾU
A31: Lâm Viết Dũng: …………………………………
A32: Châu Văn Bảo: ……………………………
A33: Huỳnh Ngọc Mai: ………………………………. | D33: Lê Xuân Thiện
A34: Nguyễn Hữu Thiện: ……………………………..

Sheet CN NL
C2: Thành phố Hồ Chí Minh, ngày tháng 7 năm 2018
A4: BIÊN BẢN KIỂM PHIẾU TÍN NHIỆM VIÊN CHỨC QUẢN LÝ KHOA CÔNG NGHỆ NHIỆT LẠNH NĂM 2018
A6: Hôm nay, vào lúc giờ phút, ngày 23/7/2018
A7: Tại: Phòng Tổ chức - HC - TH thuộc Trường Cao đẳng Lý Tự Trọng Tp. Hồ Chí Minh
A8: Chúng tôi gồm có:
A9: 1. Ông Lê Xuân Thiện, Phó Trưởng phòng TC-HC-TH: | E9: Tổ trưởng;
A10: 2. Ông Lâm Viết Dũng, Chủ tịch Công đoàn trường: | E10: Thành viên;
A11: 3. Ông Châu Văn Bảo, Bí thư Chi bộ 3: | E11: Thành viên;
A12: 4. Ông Huỳnh Ngọc Mai, TB Thanh tra nhân dân: | E12: Thành viên;
A13: 5. Ông Nguyễn Hữu Thiện, Bí thư Đoàn trường: | E13: Thành viên;
A14: Là các thành viên Tổ kiểm phiếu theo Quyết định số 723/QĐ-LTT-TC ngày 29 tháng 6 năm 2018 của Trường Cao đẳng Lý Tự Trọng Tp. Hồ Chí Minh.
A15: Tiến hành kiểm phiếu do CB-GV khoa Công nghệ Nhiệt lạnh bỏ phiếu trong cuộc họp tham khảo tín nhiệm viên chức quản lý tại khoa vào ngày 18/7/2018
A16: Tổng số phiếu: | C16: 9
A18: TT | B18: Họ và tên | C18: Chức vụ/Chức danh, Đơn vị công tác | D18: Số phiếu hợp lệ | E18: Số phiếu không hợp lệ | F18: Số phiếu tín nhiệm | G18: Tỷ lệ phiếu tín nhiệm
A19: 1 | B19: ĐINH ĐỒNG HIỆP | C19: Phó Trưởng khoa, Phụ trách khoa CN Nhiệt - Lạnh | E19: =$C$16-D19 -> 9 | G19: =F19/$C$16 -> 0
A20: 2 | B20: VÕ ANH HÀO | C20: Trưởng BM Cơ sở ngành | E20: =$C$16-D20 -> 9 | G20: =F20/$C$16 -> 0
A21: 3 | B21: ĐẶNG THẾ HUÂN | C21: Trưởng BM Nhiệt - Lạnh chuyên ngành | E21: =$C$16-D21 -> 9 | G21: =F21/$C$16 -> 0
A23: ……………………………………………………………………………………………… ……………………………………………………………………………………………………
A24: Chúng tôi đồng ký tên dưới đây, xác nhận việc kiểm phiếu được thực hiện chính xác, đúng quy định.
A25: Biên bản kết thúc lúc giờ phút ngày 23/7/2018.
B27: THÀNH VIÊN TỔ KIỂM PHIẾU | D27: TỔ TRƯỞNG TỔ KIỂM PHIẾU
A29: Lâm Viết Dũng: …………………………………
A30: Châu Văn Bảo: ……………………………
A31: Huỳnh Ngọc Mai: ………………………………. | D31: Lê Xuân Thiện
A32: Nguyễn Hữu Thiện: ……………………………..

Sheet CN MAY-TT
C2: Thành phố Hồ Chí Minh, ngày tháng 7 năm 2018
A4: BIÊN BẢN KIỂM PHIẾU TÍN NHIỆM VIÊN CHỨC QUẢN LÝ KHOA CÔNG NGHỆ MAY - THỜI TRANG NĂM 2018
A6: Hôm nay, vào lúc giờ phút, ngày 23/7/2018
A7: Tại: Phòng Tổ chức - HC - TH thuộc Trường Cao đẳng Lý Tự Trọng Tp. Hồ Chí Minh
A8: Chúng tôi gồm có:
A9: 1. Ông Lê Xuân Thiện, Phó Trưởng phòng TC-HC-TH: | E9: Tổ trưởng;
A10: 2. Ông Lâm Viết Dũng, Chủ tịch Công đoàn trường: | E10: Thành viên;
A11: 3. Ông Châu Văn Bảo, Bí thư Chi bộ 3: | E11: Thành viên;
A12: 4. Ông Huỳnh Ngọc Mai, TB Thanh tra nhân dân: | E12: Thành viên;
A13: 5. Ông Nguyễn Hữu Thiện, Bí thư Đoàn trường: | E13: Thành viên;
A14: Là các thành viên Tổ kiểm phiếu theo Quyết định số 723/QĐ-LTT-TC ngày 29 tháng 6 năm 2018 của Trường Cao đẳng Lý Tự Trọng Tp. Hồ Chí Minh.
A15: Tiến hành kiểm phiếu do CB-GV khoa Công nghệ Nhiệt lạnh bỏ phiếu trong cuộc họp tham khảo tín nhiệm viên chức quản lý tại khoa vào ngày 23/7/2018
A16: Tổng số phiếu: | C16: 7
A18: TT | B18: Họ và tên | C18: Chức vụ/Chức danh, Đơn vị công tác | D18: Số phiếu hợp lệ | E18: Số phiếu không hợp lệ | F18: Số phiếu tín nhiệm | G18: Tỷ lệ phiếu tín nhiệm
A19: 1 | B19: TRƯƠNG VIỆT KHÁNH TRANG | C19: Trưởng khoa CN May - Thời trang | E19: =$C$16-D19 -> 7 | G19: =F19/$C$16 -> 0
A20: 2 | B20: PHẠM THỊ THANH THÚY | C20: Phụ trách tổ bộ môn Công nghệ | E20: =$C$16-D20 -> 7 | G20: =F20/$C$16 -> 0
A22: ……………………………………………………………………………………………… ……………………………………………………………………………………………………
A23: Chúng tôi đồng ký tên dưới đây, xác nhận việc kiểm phiếu được thực hiện chính xác, đúng quy định.
A24: Biên bản kết thúc lúc giờ phút ngày 23/7/2018.
B26: THÀNH VIÊN TỔ KIỂM PHIẾU | D26: TỔ TRƯỞNG TỔ KIỂM PHIẾU
A28: Lâm Viết Dũng: …………………………………
A29: Châu Văn Bảo: ……………………………
A30: Huỳnh Ngọc Mai: ………………………………. | D30: Lê Xuân Thiện
A31: Nguyễn Hữu Thiện: ……………………………..
